BEGIN:VCALENDAR
VERSION:2.0
PRODID:-//FCLive//Events Calendar//EN
CALSCALE:GREGORIAN
METHOD:PUBLISH
X-WR-CALNAME:Blue Parrot Ocean Front Cafe Events
X-WR-TIMEZONE:UTC
BEGIN:VEVENT
UID:6ab0ac73-8182-4cd5-83ff-c0ced8eecc6a@fclive
DTSTAMP:20260420T041539Z
DTSTART:20260418T180000Z
DTEND:20260418T210000Z
SUMMARY:Brian Rowland
STATUS:CONFIRMED
END:VEVENT
BEGIN:VEVENT
UID:a71eec65-a37e-411d-88c7-c27cad9742b8@fclive
DTSTAMP:20260420T041539Z
DTSTART:20260426T180000Z
DTEND:20260426T210000Z
SUMMARY:Dominic Milner
STATUS:CONFIRMED
END:VEVENT
END:VCALENDAR