BEGIN:VCALENDAR
VERSION:2.0
PRODID:-//FCLive//Events Calendar//EN
CALSCALE:GREGORIAN
METHOD:PUBLISH
X-WR-CALNAME:Big Daddy Entertainment Events
X-WR-TIMEZONE:UTC
BEGIN:VEVENT
UID:ce9d32cc-8c95-4852-9a61-a0bd1e7e295a@fclive
DTSTAMP:20260420T013051Z
DTSTART:20260405T220000Z
DTEND:20260406T010000Z
SUMMARY:Indian Pass Raw Bar
DESCRIPTION:Big Daddy Karaoke
STATUS:CONFIRMED
END:VEVENT
BEGIN:VEVENT
UID:68ae937b-504e-44e7-a9dc-a7e552c12078@fclive
DTSTAMP:20260420T013051Z
DTSTART:20260419T220000Z
DTEND:20260420T010000Z
SUMMARY:Indian Pass Raw Bar
DESCRIPTION:Big Daddy Karaoke
STATUS:CONFIRMED
END:VEVENT
BEGIN:VEVENT
UID:89ec8280-98d0-4521-b40e-7277a357da70@fclive
DTSTAMP:20260420T013051Z
DTSTART:20260523T220000Z
DTEND:20260524T010000Z
SUMMARY:Indian Pass Raw Bar
DESCRIPTION:Big Daddy Karaoke
STATUS:CONFIRMED
END:VEVENT
END:VCALENDAR