BEGIN:VCALENDAR
VERSION:2.0
PRODID:-//FCLive//Events Calendar//EN
CALSCALE:GREGORIAN
METHOD:PUBLISH
X-WR-CALNAME:Barry BigBear Henson Events
X-WR-TIMEZONE:UTC
BEGIN:VEVENT
UID:e675333c-68c1-42f3-8a8f-370a0edaf225@fclive
DTSTAMP:20260420T013057Z
DTSTART:20260410T220000Z
DTEND:20260411T010000Z
SUMMARY:Beach Bear Coastal
STATUS:CONFIRMED
END:VEVENT
BEGIN:VEVENT
UID:d8af8913-3ef9-4e99-bfab-7c31eeb4ce96@fclive
DTSTAMP:20260420T013057Z
DTSTART:20260424T220000Z
DTEND:20260425T010000Z
SUMMARY:Red White & Brew
STATUS:CONFIRMED
END:VEVENT
BEGIN:VEVENT
UID:018e53fe-0ae7-4ea6-b922-87d07e0ab514@fclive
DTSTAMP:20260420T013057Z
DTSTART:20260419T210000Z
DTEND:20260420T000000Z
SUMMARY:Lookout Lounge & Package
STATUS:CONFIRMED
END:VEVENT
BEGIN:VEVENT
UID:8922856b-76b9-4e75-9cc2-acdeec7b2016@fclive
DTSTAMP:20260420T013057Z
DTSTART:20260423T220000Z
DTEND:20260424T010000Z
SUMMARY:Indian Pass Raw Bar
STATUS:CONFIRMED
END:VEVENT
BEGIN:VEVENT
UID:51141658-8383-490b-ac17-b21c792a7181@fclive
DTSTAMP:20260420T013057Z
DTSTART:20260405T210000Z
DTEND:20260406T000000Z
SUMMARY:Lookout Lounge & Package
STATUS:CONFIRMED
END:VEVENT
END:VCALENDAR