BEGIN:VCALENDAR
VERSION:2.0
PRODID:-//FCLive//Events Calendar//EN
CALSCALE:GREGORIAN
METHOD:PUBLISH
X-WR-CALNAME:Bad Decisions Events
X-WR-TIMEZONE:UTC
BEGIN:VEVENT
UID:f72d0f22-5a9d-46ab-b2ea-11729a4d1644@fclive
DTSTAMP:20260422T093738Z
DTSTART:20260403T213000Z
DTEND:20260404T003000Z
SUMMARY:Eastpoint Beer Company
STATUS:CONFIRMED
END:VEVENT
BEGIN:VEVENT
UID:2dfa6fdf-8d48-4c4b-bf10-5cf7efe86b79@fclive
DTSTAMP:20260422T093738Z
DTSTART:20260422T220000Z
DTEND:20260423T010000Z
SUMMARY:The Mill Mercantile & Social
STATUS:CONFIRMED
END:VEVENT
BEGIN:VEVENT
UID:a2a85604-4613-47ec-a676-f082712498f2@fclive
DTSTAMP:20260422T093738Z
DTSTART:20260502T220000Z
DTEND:20260503T010000Z
SUMMARY:Beach Bear Coastal
STATUS:CONFIRMED
END:VEVENT
END:VCALENDAR