BEGIN:VCALENDAR
VERSION:2.0
PRODID:-//FCLive//Events Calendar//EN
CALSCALE:GREGORIAN
METHOD:PUBLISH
X-WR-CALNAME:Baby Gray Events
X-WR-TIMEZONE:UTC
BEGIN:VEVENT
UID:6ee9e9dd-c929-40b5-b3ed-9765659491db@fclive
DTSTAMP:20260420T040936Z
DTSTART:20260404T220000Z
DTEND:20260405T010000Z
SUMMARY:Scallop RePUBlic
STATUS:CONFIRMED
END:VEVENT
BEGIN:VEVENT
UID:21bbbf27-9fc3-47d7-98ec-38728a1ae80b@fclive
DTSTAMP:20260420T040936Z
DTSTART:20260502T220000Z
DTEND:20260503T010000Z
SUMMARY:Lookout Lounge & Package
STATUS:CONFIRMED
END:VEVENT
BEGIN:VEVENT
UID:b59b974e-8869-456e-a6f2-fc81fe802703@fclive
DTSTAMP:20260420T040936Z
DTSTART:20260606T220000Z
DTEND:20260607T010000Z
SUMMARY:Lookout Lounge & Package
STATUS:CONFIRMED
END:VEVENT
END:VCALENDAR