BEGIN:VCALENDAR
VERSION:2.0
PRODID:-//FCLive//Events Calendar//EN
CALSCALE:GREGORIAN
METHOD:PUBLISH
X-WR-CALNAME:Apalachicola Yacht Club Events
X-WR-TIMEZONE:UTC
BEGIN:VEVENT
UID:4e5cca80-6ac0-4985-ae7b-00eebc501e17@fclive
DTSTAMP:20260420T064608Z
DTSTART:20260409T230000Z
DTEND:20260410T020000Z
SUMMARY:John Sutton
STATUS:CONFIRMED
END:VEVENT
BEGIN:VEVENT
UID:90718787-a878-4b0b-b8be-0f5326e9cb69@fclive
DTSTAMP:20260420T064608Z
DTSTART:20260402T220000Z
DTEND:20260403T010000Z
SUMMARY:Ray Cashman
STATUS:CONFIRMED
END:VEVENT
BEGIN:VEVENT
UID:80cc193f-6ae5-4649-a9ab-42a53052f3d5@fclive
DTSTAMP:20260420T064608Z
DTSTART:20260418T230000Z
DTEND:20260419T020000Z
SUMMARY:The Palmetto Kickers
STATUS:CONFIRMED
END:VEVENT
BEGIN:VEVENT
UID:96c813e9-14ed-4499-b462-88ede4ece1a1@fclive
DTSTAMP:20260420T064608Z
DTSTART:20260410T230000Z
DTEND:20260411T020000Z
SUMMARY:Dirt Road Sports
DESCRIPTION:Dirt Road Sports
STATUS:CONFIRMED
END:VEVENT
BEGIN:VEVENT
UID:2d1a6053-7f81-42b0-bcae-8caf497f6bf4@fclive
DTSTAMP:20260420T064608Z
DTSTART:20260416T220000Z
DTEND:20260417T010000Z
SUMMARY:Corey Hall
STATUS:CONFIRMED
END:VEVENT
BEGIN:VEVENT
UID:3b8e23ba-0157-4d17-908d-a49001bc7fd1@fclive
DTSTAMP:20260420T064608Z
DTSTART:20260411T230000Z
DTEND:20260412T020000Z
SUMMARY:Sauce Boss
STATUS:CONFIRMED
END:VEVENT
BEGIN:VEVENT
UID:727d82d7-8e6c-471b-9744-be58c90ce26e@fclive
DTSTAMP:20260420T064608Z
DTSTART:20260413T200000Z
DTEND:20260413T220000Z
SUMMARY:Ukulilies w/ Betsy Crabb
DESCRIPTION:Ukulilies w/ Betsy Crabb
STATUS:CONFIRMED
END:VEVENT
BEGIN:VEVENT
UID:2ad7f40d-5326-42ca-8052-c5d01c82201d@fclive
DTSTAMP:20260420T064608Z
DTSTART:20260406T200000Z
DTEND:20260406T220000Z
SUMMARY:Sticky Tim
STATUS:CONFIRMED
END:VEVENT
BEGIN:VEVENT
UID:a19b7595-215a-4b46-be67-c8bb36918888@fclive
DTSTAMP:20260420T064608Z
DTSTART:20260425T230000Z
DTEND:20260426T020000Z
SUMMARY:Bo Spring Band
STATUS:CONFIRMED
END:VEVENT
BEGIN:VEVENT
UID:92cc61ef-58ed-4696-a399-ca153c87e3aa@fclive
DTSTAMP:20260420T064608Z
DTSTART:20260403T220000Z
DTEND:20260404T010000Z
SUMMARY:Hot Mess
STATUS:CONFIRMED
END:VEVENT
BEGIN:VEVENT
UID:596b7369-a53f-4d22-9170-fdc6877cc9d5@fclive
DTSTAMP:20260420T064608Z
DTSTART:20260404T230000Z
DTEND:20260405T020000Z
SUMMARY:Jerry Thigpen Trio
DESCRIPTION:Jerry Thigpen Trio
STATUS:CONFIRMED
END:VEVENT
BEGIN:VEVENT
UID:ab25a655-12b8-4e94-bfc0-9e70db2b1294@fclive
DTSTAMP:20260420T064608Z
DTSTART:20260523T230000Z
DTEND:20260524T020000Z
SUMMARY:Bo Spring Band
STATUS:CONFIRMED
END:VEVENT
BEGIN:VEVENT
UID:7d0e2ee0-9a29-4001-871d-21d4d2e7ce12@fclive
DTSTAMP:20260420T064608Z
DTSTART:20260627T230000Z
DTEND:20260628T020000Z
SUMMARY:Chicken Phat
STATUS:CONFIRMED
END:VEVENT
BEGIN:VEVENT
UID:7ce3448a-037c-4669-827c-2977778464c8@fclive
DTSTAMP:20260420T064608Z
DTSTART:20260619T230000Z
DTEND:20260620T020000Z
SUMMARY:Motel Pearl
DESCRIPTION:Motel Pearl
STATUS:CONFIRMED
END:VEVENT
END:VCALENDAR